BEGIN:VCALENDAR
VERSION:2.0
PRODID:https://www.kufer.de/kuferweb / DE
METHOD:PUBLISH
CALSCALE:GREGORIAN
X-WR-TIMEZONE:Europe/Berlin
BEGIN:VTIMEZONE
TZID:Europe/Berlin
X-LIC-LOCATION:Europe/Berlin
BEGIN:DAYLIGHT
TZOFFSETFROM:+0100
TZOFFSETTO:+0200
TZNAME:CEST
DTSTART:19700329T020000
RRULE:FREQ=YEARLY;INTERVAL=1;BYDAY=-1SU;BYMONTH=3
END:DAYLIGHT
BEGIN:STANDARD
TZOFFSETFROM:+0200
TZOFFSETTO:+0100
TZNAME:CET
DTSTART:19701025T030000
RRULE:FREQ=YEARLY;INTERVAL=1;BYDAY=-1SU;BYMONTH=10
END:STANDARD
END:VTIMEZONE
BEGIN:VEVENT
DTSTAMP:20260424T145118
DTSTART;TZID=Europe/Berlin:20260504T130000
DTEND;TZID=Europe/Berlin:20260504T143000
UID:2026F71802-20260504T130000@VHSLINGEN
SUMMARY:Gesprächskreis berufliche Integration Gruppe 3 (2026F71802) 
LOCATION:VHS, Kokenmühle, Raum EG 3, An der Kokenmühle 7, 49808 Lingen
END:VEVENT
BEGIN:VEVENT
DTSTAMP:20260424T145118
DTSTART;TZID=Europe/Berlin:20260511T130000
DTEND;TZID=Europe/Berlin:20260511T143000
UID:2026F71802-20260511T130000@VHSLINGEN
SUMMARY:Gesprächskreis berufliche Integration Gruppe 3 (2026F71802) 
LOCATION:VHS, Kokenmühle, Raum EG 3, An der Kokenmühle 7, 49808 Lingen
END:VEVENT
BEGIN:VEVENT
DTSTAMP:20260424T145118
DTSTART;TZID=Europe/Berlin:20260518T130000
DTEND;TZID=Europe/Berlin:20260518T143000
UID:2026F71802-20260518T130000@VHSLINGEN
SUMMARY:Gesprächskreis berufliche Integration Gruppe 3 (2026F71802) 
LOCATION:VHS, Kokenmühle, Raum EG 3, An der Kokenmühle 7, 49808 Lingen
END:VEVENT
BEGIN:VEVENT
DTSTAMP:20260424T145118
DTSTART;TZID=Europe/Berlin:20260601T130000
DTEND;TZID=Europe/Berlin:20260601T143000
UID:2026F71802-20260601T130000@VHSLINGEN
SUMMARY:Gesprächskreis berufliche Integration Gruppe 3 (2026F71802) 
LOCATION:VHS, Kokenmühle, Raum EG 3, An der Kokenmühle 7, 49808 Lingen
END:VEVENT
BEGIN:VEVENT
DTSTAMP:20260424T145118
DTSTART;TZID=Europe/Berlin:20260608T130000
DTEND;TZID=Europe/Berlin:20260608T143000
UID:2026F71802-20260608T130000@VHSLINGEN
SUMMARY:Gesprächskreis berufliche Integration Gruppe 3 (2026F71802) 
LOCATION:VHS, Kokenmühle, Raum EG 3, An der Kokenmühle 7, 49808 Lingen
END:VEVENT
BEGIN:VEVENT
DTSTAMP:20260424T145118
DTSTART;TZID=Europe/Berlin:20260615T130000
DTEND;TZID=Europe/Berlin:20260615T143000
UID:2026F71802-20260615T130000@VHSLINGEN
SUMMARY:Gesprächskreis berufliche Integration Gruppe 3 (2026F71802) 
LOCATION:VHS, Kokenmühle, Raum EG 3, An der Kokenmühle 7, 49808 Lingen
END:VEVENT
BEGIN:VEVENT
DTSTAMP:20260424T145118
DTSTART;TZID=Europe/Berlin:20260622T130000
DTEND;TZID=Europe/Berlin:20260622T143000
UID:2026F71802-20260622T130000@VHSLINGEN
SUMMARY:Gesprächskreis berufliche Integration Gruppe 3 (2026F71802) 
LOCATION:VHS, Kokenmühle, Raum EG 3, An der Kokenmühle 7, 49808 Lingen
END:VEVENT
BEGIN:VEVENT
DTSTAMP:20260424T145118
DTSTART;TZID=Europe/Berlin:20260629T130000
DTEND;TZID=Europe/Berlin:20260629T143000
UID:2026F71802-20260629T130000@VHSLINGEN
SUMMARY:Gesprächskreis berufliche Integration Gruppe 3 (2026F71802) 
LOCATION:VHS, Kokenmühle, Raum EG 3, An der Kokenmühle 7, 49808 Lingen
END:VEVENT
END:VCALENDAR