BEGIN:VCALENDAR
VERSION:2.0
PRODID:https://www.kufer.de/kuferweb / DE
METHOD:PUBLISH
CALSCALE:GREGORIAN
X-WR-TIMEZONE:Europe/Berlin
BEGIN:VTIMEZONE
TZID:Europe/Berlin
X-LIC-LOCATION:Europe/Berlin
BEGIN:DAYLIGHT
TZOFFSETFROM:+0100
TZOFFSETTO:+0200
TZNAME:CEST
DTSTART:19700329T020000
RRULE:FREQ=YEARLY;INTERVAL=1;BYDAY=-1SU;BYMONTH=3
END:DAYLIGHT
BEGIN:STANDARD
TZOFFSETFROM:+0200
TZOFFSETTO:+0100
TZNAME:CET
DTSTART:19701025T030000
RRULE:FREQ=YEARLY;INTERVAL=1;BYDAY=-1SU;BYMONTH=10
END:STANDARD
END:VTIMEZONE
BEGIN:VEVENT
DTSTAMP:20260424T211437
DTSTART;TZID=Europe/Berlin:20260420T081500
DTEND;TZID=Europe/Berlin:20260420T123000
UID:2026F71571-20260420T081500@VHSLINGEN
SUMMARY:Integrationskurs 207: (ALPHA) Wiederholerbmodul M 11 (2026F71571) 
LOCATION:VHS, Kokenmühle, Raum EG 3, An der Kokenmühle 7, 49808 Lingen
END:VEVENT
BEGIN:VEVENT
DTSTAMP:20260424T211437
DTSTART;TZID=Europe/Berlin:20260421T081500
DTEND;TZID=Europe/Berlin:20260421T123000
UID:2026F71571-20260421T081500@VHSLINGEN
SUMMARY:Integrationskurs 207: (ALPHA) Wiederholerbmodul M 11 (2026F71571) 
LOCATION:VHS, Kokenmühle, Raum EG 3, An der Kokenmühle 7, 49808 Lingen
END:VEVENT
BEGIN:VEVENT
DTSTAMP:20260424T211437
DTSTART;TZID=Europe/Berlin:20260422T081500
DTEND;TZID=Europe/Berlin:20260422T123000
UID:2026F71571-20260422T081500@VHSLINGEN
SUMMARY:Integrationskurs 207: (ALPHA) Wiederholerbmodul M 11 (2026F71571) 
LOCATION:VHS, Kokenmühle, Raum EG 3, An der Kokenmühle 7, 49808 Lingen
END:VEVENT
BEGIN:VEVENT
DTSTAMP:20260424T211437
DTSTART;TZID=Europe/Berlin:20260423T081500
DTEND;TZID=Europe/Berlin:20260423T123000
UID:2026F71571-20260423T081500@VHSLINGEN
SUMMARY:Integrationskurs 207: (ALPHA) Wiederholerbmodul M 11 (2026F71571) 
LOCATION:VHS, Kokenmühle, Raum EG 3, An der Kokenmühle 7, 49808 Lingen
END:VEVENT
BEGIN:VEVENT
DTSTAMP:20260424T211437
DTSTART;TZID=Europe/Berlin:20260424T081500
DTEND;TZID=Europe/Berlin:20260424T123000
UID:2026F71571-20260424T081500@VHSLINGEN
SUMMARY:Integrationskurs 207: (ALPHA) Wiederholerbmodul M 11 (2026F71571) 
LOCATION:VHS, Kokenmühle, Raum EG 3, An der Kokenmühle 7, 49808 Lingen
END:VEVENT
BEGIN:VEVENT
DTSTAMP:20260424T211437
DTSTART;TZID=Europe/Berlin:20260427T081500
DTEND;TZID=Europe/Berlin:20260427T123000
UID:2026F71571-20260427T081500@VHSLINGEN
SUMMARY:Integrationskurs 207: (ALPHA) Wiederholerbmodul M 11 (2026F71571) 
LOCATION:VHS, Kokenmühle, Raum EG 3, An der Kokenmühle 7, 49808 Lingen
END:VEVENT
BEGIN:VEVENT
DTSTAMP:20260424T211437
DTSTART;TZID=Europe/Berlin:20260428T081500
DTEND;TZID=Europe/Berlin:20260428T123000
UID:2026F71571-20260428T081500@VHSLINGEN
SUMMARY:Integrationskurs 207: (ALPHA) Wiederholerbmodul M 11 (2026F71571) 
LOCATION:VHS, Kokenmühle, Raum EG 3, An der Kokenmühle 7, 49808 Lingen
END:VEVENT
BEGIN:VEVENT
DTSTAMP:20260424T211437
DTSTART;TZID=Europe/Berlin:20260429T081500
DTEND;TZID=Europe/Berlin:20260429T123000
UID:2026F71571-20260429T081500@VHSLINGEN
SUMMARY:Integrationskurs 207: (ALPHA) Wiederholerbmodul M 11 (2026F71571) 
LOCATION:VHS, Kokenmühle, Raum EG 3, An der Kokenmühle 7, 49808 Lingen
END:VEVENT
BEGIN:VEVENT
DTSTAMP:20260424T211437
DTSTART;TZID=Europe/Berlin:20260430T081500
DTEND;TZID=Europe/Berlin:20260430T123000
UID:2026F71571-20260430T081500@VHSLINGEN
SUMMARY:Integrationskurs 207: (ALPHA) Wiederholerbmodul M 11 (2026F71571) 
LOCATION:VHS, Kokenmühle, Raum EG 3, An der Kokenmühle 7, 49808 Lingen
END:VEVENT
BEGIN:VEVENT
DTSTAMP:20260424T211437
DTSTART;TZID=Europe/Berlin:20260504T081500
DTEND;TZID=Europe/Berlin:20260504T123000
UID:2026F71571-20260504T081500@VHSLINGEN
SUMMARY:Integrationskurs 207: (ALPHA) Wiederholerbmodul M 11 (2026F71571) 
LOCATION:VHS, Kokenmühle, Raum EG 3, An der Kokenmühle 7, 49808 Lingen
END:VEVENT
BEGIN:VEVENT
DTSTAMP:20260424T211437
DTSTART;TZID=Europe/Berlin:20260505T081500
DTEND;TZID=Europe/Berlin:20260505T123000
UID:2026F71571-20260505T081500@VHSLINGEN
SUMMARY:Integrationskurs 207: (ALPHA) Wiederholerbmodul M 11 (2026F71571) 
LOCATION:VHS, Kokenmühle, Raum EG 3, An der Kokenmühle 7, 49808 Lingen
END:VEVENT
BEGIN:VEVENT
DTSTAMP:20260424T211437
DTSTART;TZID=Europe/Berlin:20260506T081500
DTEND;TZID=Europe/Berlin:20260506T123000
UID:2026F71571-20260506T081500@VHSLINGEN
SUMMARY:Integrationskurs 207: (ALPHA) Wiederholerbmodul M 11 (2026F71571) 
LOCATION:VHS, Kokenmühle, Raum EG 3, An der Kokenmühle 7, 49808 Lingen
END:VEVENT
BEGIN:VEVENT
DTSTAMP:20260424T211437
DTSTART;TZID=Europe/Berlin:20260507T081500
DTEND;TZID=Europe/Berlin:20260507T123000
UID:2026F71571-20260507T081500@VHSLINGEN
SUMMARY:Integrationskurs 207: (ALPHA) Wiederholerbmodul M 11 (2026F71571) 
LOCATION:VHS, Kokenmühle, Raum EG 3, An der Kokenmühle 7, 49808 Lingen
END:VEVENT
BEGIN:VEVENT
DTSTAMP:20260424T211437
DTSTART;TZID=Europe/Berlin:20260508T081500
DTEND;TZID=Europe/Berlin:20260508T123000
UID:2026F71571-20260508T081500@VHSLINGEN
SUMMARY:Integrationskurs 207: (ALPHA) Wiederholerbmodul M 11 (2026F71571) 
LOCATION:VHS, Kokenmühle, Raum EG 3, An der Kokenmühle 7, 49808 Lingen
END:VEVENT
BEGIN:VEVENT
DTSTAMP:20260424T211437
DTSTART;TZID=Europe/Berlin:20260511T081500
DTEND;TZID=Europe/Berlin:20260511T123000
UID:2026F71571-20260511T081500@VHSLINGEN
SUMMARY:Integrationskurs 207: (ALPHA) Wiederholerbmodul M 11 (2026F71571) 
LOCATION:VHS, Kokenmühle, Raum EG 3, An der Kokenmühle 7, 49808 Lingen
END:VEVENT
BEGIN:VEVENT
DTSTAMP:20260424T211437
DTSTART;TZID=Europe/Berlin:20260512T081500
DTEND;TZID=Europe/Berlin:20260512T123000
UID:2026F71571-20260512T081500@VHSLINGEN
SUMMARY:Integrationskurs 207: (ALPHA) Wiederholerbmodul M 11 (2026F71571) 
LOCATION:VHS, Kokenmühle, Raum EG 3, An der Kokenmühle 7, 49808 Lingen
END:VEVENT
BEGIN:VEVENT
DTSTAMP:20260424T211437
DTSTART;TZID=Europe/Berlin:20260513T081500
DTEND;TZID=Europe/Berlin:20260513T123000
UID:2026F71571-20260513T081500@VHSLINGEN
SUMMARY:Integrationskurs 207: (ALPHA) Wiederholerbmodul M 11 (2026F71571) 
LOCATION:VHS, Kokenmühle, Raum EG 3, An der Kokenmühle 7, 49808 Lingen
END:VEVENT
BEGIN:VEVENT
DTSTAMP:20260424T211437
DTSTART;TZID=Europe/Berlin:20260518T081500
DTEND;TZID=Europe/Berlin:20260518T123000
UID:2026F71571-20260518T081500@VHSLINGEN
SUMMARY:Integrationskurs 207: (ALPHA) Wiederholerbmodul M 11 (2026F71571) 
LOCATION:VHS, Kokenmühle, Raum EG 3, An der Kokenmühle 7, 49808 Lingen
END:VEVENT
BEGIN:VEVENT
DTSTAMP:20260424T211437
DTSTART;TZID=Europe/Berlin:20260519T081500
DTEND;TZID=Europe/Berlin:20260519T123000
UID:2026F71571-20260519T081500@VHSLINGEN
SUMMARY:Integrationskurs 207: (ALPHA) Wiederholerbmodul M 11 (2026F71571) 
LOCATION:VHS, Kokenmühle, Raum EG 3, An der Kokenmühle 7, 49808 Lingen
END:VEVENT
BEGIN:VEVENT
DTSTAMP:20260424T211437
DTSTART;TZID=Europe/Berlin:20260520T081500
DTEND;TZID=Europe/Berlin:20260520T123000
UID:2026F71571-20260520T081500@VHSLINGEN
SUMMARY:Integrationskurs 207: (ALPHA) Wiederholerbmodul M 11 (2026F71571) 
LOCATION:VHS, Kokenmühle, Raum EG 3, An der Kokenmühle 7, 49808 Lingen
END:VEVENT
BEGIN:VEVENT
DTSTAMP:20260424T211437
DTSTART;TZID=Europe/Berlin:20260521T081500
DTEND;TZID=Europe/Berlin:20260521T123000
UID:2026F71572-20260521T081500@VHSLINGEN
SUMMARY:Integrationskurs 207: (ALPHA) Wiederholermodul M12 (2026F71572) 
LOCATION:VHS, Kokenmühle, Raum EG 3, An der Kokenmühle 7, 49808 Lingen
END:VEVENT
BEGIN:VEVENT
DTSTAMP:20260424T211437
DTSTART;TZID=Europe/Berlin:20260522T081500
DTEND;TZID=Europe/Berlin:20260522T123000
UID:2026F71572-20260522T081500@VHSLINGEN
SUMMARY:Integrationskurs 207: (ALPHA) Wiederholermodul M12 (2026F71572) 
LOCATION:VHS, Kokenmühle, Raum EG 3, An der Kokenmühle 7, 49808 Lingen
END:VEVENT
BEGIN:VEVENT
DTSTAMP:20260424T211437
DTSTART;TZID=Europe/Berlin:20260527T081500
DTEND;TZID=Europe/Berlin:20260527T123000
UID:2026F71572-20260527T081500@VHSLINGEN
SUMMARY:Integrationskurs 207: (ALPHA) Wiederholermodul M12 (2026F71572) 
LOCATION:VHS, Kokenmühle, Raum EG 3, An der Kokenmühle 7, 49808 Lingen
END:VEVENT
BEGIN:VEVENT
DTSTAMP:20260424T211437
DTSTART;TZID=Europe/Berlin:20260528T081500
DTEND;TZID=Europe/Berlin:20260528T123000
UID:2026F71572-20260528T081500@VHSLINGEN
SUMMARY:Integrationskurs 207: (ALPHA) Wiederholermodul M12 (2026F71572) 
LOCATION:VHS, Kokenmühle, Raum EG 3, An der Kokenmühle 7, 49808 Lingen
END:VEVENT
BEGIN:VEVENT
DTSTAMP:20260424T211437
DTSTART;TZID=Europe/Berlin:20260529T081500
DTEND;TZID=Europe/Berlin:20260529T123000
UID:2026F71572-20260529T081500@VHSLINGEN
SUMMARY:Integrationskurs 207: (ALPHA) Wiederholermodul M12 (2026F71572) 
LOCATION:VHS, Kokenmühle, Raum EG 3, An der Kokenmühle 7, 49808 Lingen
END:VEVENT
BEGIN:VEVENT
DTSTAMP:20260424T211437
DTSTART;TZID=Europe/Berlin:20260601T081500
DTEND;TZID=Europe/Berlin:20260601T123000
UID:2026F71572-20260601T081500@VHSLINGEN
SUMMARY:Integrationskurs 207: (ALPHA) Wiederholermodul M12 (2026F71572) 
LOCATION:VHS, Kokenmühle, Raum EG 3, An der Kokenmühle 7, 49808 Lingen
END:VEVENT
BEGIN:VEVENT
DTSTAMP:20260424T211437
DTSTART;TZID=Europe/Berlin:20260602T081500
DTEND;TZID=Europe/Berlin:20260602T123000
UID:2026F71572-20260602T081500@VHSLINGEN
SUMMARY:Integrationskurs 207: (ALPHA) Wiederholermodul M12 (2026F71572) 
LOCATION:VHS, Kokenmühle, Raum EG 3, An der Kokenmühle 7, 49808 Lingen
END:VEVENT
BEGIN:VEVENT
DTSTAMP:20260424T211437
DTSTART;TZID=Europe/Berlin:20260603T081500
DTEND;TZID=Europe/Berlin:20260603T123000
UID:2026F71572-20260603T081500@VHSLINGEN
SUMMARY:Integrationskurs 207: (ALPHA) Wiederholermodul M12 (2026F71572) 
LOCATION:VHS, Kokenmühle, Raum EG 3, An der Kokenmühle 7, 49808 Lingen
END:VEVENT
BEGIN:VEVENT
DTSTAMP:20260424T211437
DTSTART;TZID=Europe/Berlin:20260604T081500
DTEND;TZID=Europe/Berlin:20260604T123000
UID:2026F71572-20260604T081500@VHSLINGEN
SUMMARY:Integrationskurs 207: (ALPHA) Wiederholermodul M12 (2026F71572) 
LOCATION:VHS, Kokenmühle, Raum EG 3, An der Kokenmühle 7, 49808 Lingen
END:VEVENT
BEGIN:VEVENT
DTSTAMP:20260424T211437
DTSTART;TZID=Europe/Berlin:20260605T081500
DTEND;TZID=Europe/Berlin:20260605T123000
UID:2026F71572-20260605T081500@VHSLINGEN
SUMMARY:Integrationskurs 207: (ALPHA) Wiederholermodul M12 (2026F71572) 
LOCATION:VHS, Kokenmühle, Raum EG 3, An der Kokenmühle 7, 49808 Lingen
END:VEVENT
BEGIN:VEVENT
DTSTAMP:20260424T211437
DTSTART;TZID=Europe/Berlin:20260608T081500
DTEND;TZID=Europe/Berlin:20260608T123000
UID:2026F71572-20260608T081500@VHSLINGEN
SUMMARY:Integrationskurs 207: (ALPHA) Wiederholermodul M12 (2026F71572) 
LOCATION:VHS, Kokenmühle, Raum EG 3, An der Kokenmühle 7, 49808 Lingen
END:VEVENT
BEGIN:VEVENT
DTSTAMP:20260424T211437
DTSTART;TZID=Europe/Berlin:20260609T081500
DTEND;TZID=Europe/Berlin:20260609T123000
UID:2026F71572-20260609T081500@VHSLINGEN
SUMMARY:Integrationskurs 207: (ALPHA) Wiederholermodul M12 (2026F71572) 
LOCATION:VHS, Kokenmühle, Raum EG 3, An der Kokenmühle 7, 49808 Lingen
END:VEVENT
BEGIN:VEVENT
DTSTAMP:20260424T211437
DTSTART;TZID=Europe/Berlin:20260610T081500
DTEND;TZID=Europe/Berlin:20260610T123000
UID:2026F71572-20260610T081500@VHSLINGEN
SUMMARY:Integrationskurs 207: (ALPHA) Wiederholermodul M12 (2026F71572) 
LOCATION:VHS, Kokenmühle, Raum EG 3, An der Kokenmühle 7, 49808 Lingen
END:VEVENT
BEGIN:VEVENT
DTSTAMP:20260424T211437
DTSTART;TZID=Europe/Berlin:20260611T081500
DTEND;TZID=Europe/Berlin:20260611T123000
UID:2026F71572-20260611T081500@VHSLINGEN
SUMMARY:Integrationskurs 207: (ALPHA) Wiederholermodul M12 (2026F71572) 
LOCATION:VHS, Kokenmühle, Raum EG 3, An der Kokenmühle 7, 49808 Lingen
END:VEVENT
BEGIN:VEVENT
DTSTAMP:20260424T211437
DTSTART;TZID=Europe/Berlin:20260612T081500
DTEND;TZID=Europe/Berlin:20260612T123000
UID:2026F71572-20260612T081500@VHSLINGEN
SUMMARY:Integrationskurs 207: (ALPHA) Wiederholermodul M12 (2026F71572) 
LOCATION:VHS, Kokenmühle, Raum EG 3, An der Kokenmühle 7, 49808 Lingen
END:VEVENT
BEGIN:VEVENT
DTSTAMP:20260424T211437
DTSTART;TZID=Europe/Berlin:20260615T081500
DTEND;TZID=Europe/Berlin:20260615T123000
UID:2026F71572-20260615T081500@VHSLINGEN
SUMMARY:Integrationskurs 207: (ALPHA) Wiederholermodul M12 (2026F71572) 
LOCATION:VHS, Kokenmühle, Raum EG 3, An der Kokenmühle 7, 49808 Lingen
END:VEVENT
BEGIN:VEVENT
DTSTAMP:20260424T211437
DTSTART;TZID=Europe/Berlin:20260616T081500
DTEND;TZID=Europe/Berlin:20260616T123000
UID:2026F71572-20260616T081500@VHSLINGEN
SUMMARY:Integrationskurs 207: (ALPHA) Wiederholermodul M12 (2026F71572) 
LOCATION:VHS, Kokenmühle, Raum EG 3, An der Kokenmühle 7, 49808 Lingen
END:VEVENT
BEGIN:VEVENT
DTSTAMP:20260424T211437
DTSTART;TZID=Europe/Berlin:20260617T081500
DTEND;TZID=Europe/Berlin:20260617T123000
UID:2026F71572-20260617T081500@VHSLINGEN
SUMMARY:Integrationskurs 207: (ALPHA) Wiederholermodul M12 (2026F71572) 
LOCATION:VHS, Kokenmühle, Raum EG 3, An der Kokenmühle 7, 49808 Lingen
END:VEVENT
BEGIN:VEVENT
DTSTAMP:20260424T211437
DTSTART;TZID=Europe/Berlin:20260618T081500
DTEND;TZID=Europe/Berlin:20260618T123000
UID:2026F71572-20260618T081500@VHSLINGEN
SUMMARY:Integrationskurs 207: (ALPHA) Wiederholermodul M12 (2026F71572) 
LOCATION:VHS, Kokenmühle, Raum EG 3, An der Kokenmühle 7, 49808 Lingen
END:VEVENT
BEGIN:VEVENT
DTSTAMP:20260424T211437
DTSTART;TZID=Europe/Berlin:20260619T081500
DTEND;TZID=Europe/Berlin:20260619T123000
UID:2026F71572-20260619T081500@VHSLINGEN
SUMMARY:Integrationskurs 207: (ALPHA) Wiederholermodul M12 (2026F71572) 
LOCATION:VHS, Kokenmühle, Raum EG 3, An der Kokenmühle 7, 49808 Lingen
END:VEVENT
BEGIN:VEVENT
DTSTAMP:20260424T211437
DTSTART;TZID=Europe/Berlin:20260622T081500
DTEND;TZID=Europe/Berlin:20260622T123000
UID:2026F71573-20260622T081500@VHSLINGEN
SUMMARY:Integrationskurs 207: (ALPHA) Wiederhollermodul M 13 (2026F71573) 
LOCATION:Bildungszentrum Gebrüder-Grimm, EG08, Elsterstr. 1, 49808 Lingen
END:VEVENT
BEGIN:VEVENT
DTSTAMP:20260424T211437
DTSTART;TZID=Europe/Berlin:20260623T081500
DTEND;TZID=Europe/Berlin:20260623T123000
UID:2026F71573-20260623T081500@VHSLINGEN
SUMMARY:Integrationskurs 207: (ALPHA) Wiederhollermodul M 13 (2026F71573) 
LOCATION:Bildungszentrum Gebrüder-Grimm, EG08, Elsterstr. 1, 49808 Lingen
END:VEVENT
BEGIN:VEVENT
DTSTAMP:20260424T211437
DTSTART;TZID=Europe/Berlin:20260624T081500
DTEND;TZID=Europe/Berlin:20260624T123000
UID:2026F71573-20260624T081500@VHSLINGEN
SUMMARY:Integrationskurs 207: (ALPHA) Wiederhollermodul M 13 (2026F71573) 
LOCATION:Bildungszentrum Gebrüder-Grimm, EG08, Elsterstr. 1, 49808 Lingen
END:VEVENT
BEGIN:VEVENT
DTSTAMP:20260424T211437
DTSTART;TZID=Europe/Berlin:20260625T081500
DTEND;TZID=Europe/Berlin:20260625T123000
UID:2026F71573-20260625T081500@VHSLINGEN
SUMMARY:Integrationskurs 207: (ALPHA) Wiederhollermodul M 13 (2026F71573) 
LOCATION:Bildungszentrum Gebrüder-Grimm, EG08, Elsterstr. 1, 49808 Lingen
END:VEVENT
BEGIN:VEVENT
DTSTAMP:20260424T211437
DTSTART;TZID=Europe/Berlin:20260626T081500
DTEND;TZID=Europe/Berlin:20260626T123000
UID:2026F71573-20260626T081500@VHSLINGEN
SUMMARY:Integrationskurs 207: (ALPHA) Wiederhollermodul M 13 (2026F71573) 
LOCATION:Bildungszentrum Gebrüder-Grimm, EG08, Elsterstr. 1, 49808 Lingen
END:VEVENT
BEGIN:VEVENT
DTSTAMP:20260424T211437
DTSTART;TZID=Europe/Berlin:20260629T081500
DTEND;TZID=Europe/Berlin:20260629T123000
UID:2026F71573-20260629T081500@VHSLINGEN
SUMMARY:Integrationskurs 207: (ALPHA) Wiederhollermodul M 13 (2026F71573) 
LOCATION:Bildungszentrum Gebrüder-Grimm, EG08, Elsterstr. 1, 49808 Lingen
END:VEVENT
BEGIN:VEVENT
DTSTAMP:20260424T211437
DTSTART;TZID=Europe/Berlin:20260630T081500
DTEND;TZID=Europe/Berlin:20260630T123000
UID:2026F71573-20260630T081500@VHSLINGEN
SUMMARY:Integrationskurs 207: (ALPHA) Wiederhollermodul M 13 (2026F71573) 
LOCATION:Bildungszentrum Gebrüder-Grimm, EG08, Elsterstr. 1, 49808 Lingen
END:VEVENT
BEGIN:VEVENT
DTSTAMP:20260424T211437
DTSTART;TZID=Europe/Berlin:20260701T081500
DTEND;TZID=Europe/Berlin:20260701T123000
UID:2026F71573-20260701T081500@VHSLINGEN
SUMMARY:Integrationskurs 207: (ALPHA) Wiederhollermodul M 13 (2026F71573) 
LOCATION:Bildungszentrum Gebrüder-Grimm, EG08, Elsterstr. 1, 49808 Lingen
END:VEVENT
BEGIN:VEVENT
DTSTAMP:20260424T211437
DTSTART;TZID=Europe/Berlin:20260702T081500
DTEND;TZID=Europe/Berlin:20260702T123000
UID:2026F71573-20260702T081500@VHSLINGEN
SUMMARY:Integrationskurs 207: (ALPHA) Wiederhollermodul M 13 (2026F71573) 
LOCATION:Bildungszentrum Gebrüder-Grimm, EG08, Elsterstr. 1, 49808 Lingen
END:VEVENT
BEGIN:VEVENT
DTSTAMP:20260424T211437
DTSTART;TZID=Europe/Berlin:20260703T081500
DTEND;TZID=Europe/Berlin:20260703T123000
UID:2026F71573-20260703T081500@VHSLINGEN
SUMMARY:Integrationskurs 207: (ALPHA) Wiederhollermodul M 13 (2026F71573) 
LOCATION:Bildungszentrum Gebrüder-Grimm, EG08, Elsterstr. 1, 49808 Lingen
END:VEVENT
BEGIN:VEVENT
DTSTAMP:20260424T211437
DTSTART;TZID=Europe/Berlin:20260727T081500
DTEND;TZID=Europe/Berlin:20260727T123000
UID:2026F71573-20260727T081500@VHSLINGEN
SUMMARY:Integrationskurs 207: (ALPHA) Wiederhollermodul M 13 (2026F71573) 
LOCATION:Bildungszentrum Gebrüder-Grimm, EG08, Elsterstr. 1, 49808 Lingen
END:VEVENT
BEGIN:VEVENT
DTSTAMP:20260424T211437
DTSTART;TZID=Europe/Berlin:20260728T081500
DTEND;TZID=Europe/Berlin:20260728T123000
UID:2026F71573-20260728T081500@VHSLINGEN
SUMMARY:Integrationskurs 207: (ALPHA) Wiederhollermodul M 13 (2026F71573) 
LOCATION:Bildungszentrum Gebrüder-Grimm, EG08, Elsterstr. 1, 49808 Lingen
END:VEVENT
BEGIN:VEVENT
DTSTAMP:20260424T211437
DTSTART;TZID=Europe/Berlin:20260729T081500
DTEND;TZID=Europe/Berlin:20260729T123000
UID:2026F71573-20260729T081500@VHSLINGEN
SUMMARY:Integrationskurs 207: (ALPHA) Wiederhollermodul M 13 (2026F71573) 
LOCATION:Bildungszentrum Gebrüder-Grimm, EG08, Elsterstr. 1, 49808 Lingen
END:VEVENT
BEGIN:VEVENT
DTSTAMP:20260424T211437
DTSTART;TZID=Europe/Berlin:20260730T081500
DTEND;TZID=Europe/Berlin:20260730T123000
UID:2026F71573-20260730T081500@VHSLINGEN
SUMMARY:Integrationskurs 207: (ALPHA) Wiederhollermodul M 13 (2026F71573) 
LOCATION:Bildungszentrum Gebrüder-Grimm, EG08, Elsterstr. 1, 49808 Lingen
END:VEVENT
BEGIN:VEVENT
DTSTAMP:20260424T211437
DTSTART;TZID=Europe/Berlin:20260731T081500
DTEND;TZID=Europe/Berlin:20260731T123000
UID:2026F71573-20260731T081500@VHSLINGEN
SUMMARY:Integrationskurs 207: (ALPHA) Wiederhollermodul M 13 (2026F71573) 
LOCATION:Bildungszentrum Gebrüder-Grimm, EG08, Elsterstr. 1, 49808 Lingen
END:VEVENT
BEGIN:VEVENT
DTSTAMP:20260424T211437
DTSTART;TZID=Europe/Berlin:20260803T081500
DTEND;TZID=Europe/Berlin:20260803T123000
UID:2026F71573-20260803T081500@VHSLINGEN
SUMMARY:Integrationskurs 207: (ALPHA) Wiederhollermodul M 13 (2026F71573) 
LOCATION:Bildungszentrum Gebrüder-Grimm, EG08, Elsterstr. 1, 49808 Lingen
END:VEVENT
BEGIN:VEVENT
DTSTAMP:20260424T211437
DTSTART;TZID=Europe/Berlin:20260804T081500
DTEND;TZID=Europe/Berlin:20260804T123000
UID:2026F71573-20260804T081500@VHSLINGEN
SUMMARY:Integrationskurs 207: (ALPHA) Wiederhollermodul M 13 (2026F71573) 
LOCATION:Bildungszentrum Gebrüder-Grimm, EG08, Elsterstr. 1, 49808 Lingen
END:VEVENT
BEGIN:VEVENT
DTSTAMP:20260424T211437
DTSTART;TZID=Europe/Berlin:20260805T081500
DTEND;TZID=Europe/Berlin:20260805T123000
UID:2026F71573-20260805T081500@VHSLINGEN
SUMMARY:Integrationskurs 207: (ALPHA) Wiederhollermodul M 13 (2026F71573) 
LOCATION:Bildungszentrum Gebrüder-Grimm, EG08, Elsterstr. 1, 49808 Lingen
END:VEVENT
BEGIN:VEVENT
DTSTAMP:20260424T211437
DTSTART;TZID=Europe/Berlin:20260806T081500
DTEND;TZID=Europe/Berlin:20260806T123000
UID:2026F71573-20260806T081500@VHSLINGEN
SUMMARY:Integrationskurs 207: (ALPHA) Wiederhollermodul M 13 (2026F71573) 
LOCATION:Bildungszentrum Gebrüder-Grimm, EG08, Elsterstr. 1, 49808 Lingen
END:VEVENT
BEGIN:VEVENT
DTSTAMP:20260424T211437
DTSTART;TZID=Europe/Berlin:20260807T081500
DTEND;TZID=Europe/Berlin:20260807T123000
UID:2026F71573-20260807T081500@VHSLINGEN
SUMMARY:Integrationskurs 207: (ALPHA) Wiederhollermodul M 13 (2026F71573) 
LOCATION:Bildungszentrum Gebrüder-Grimm, EG08, Elsterstr. 1, 49808 Lingen
END:VEVENT
END:VCALENDAR