BEGIN:VCALENDAR
VERSION:2.0
PRODID:https://www.kufer.de/kuferweb / DE
METHOD:PUBLISH
CALSCALE:GREGORIAN
X-WR-TIMEZONE:Europe/Berlin
BEGIN:VTIMEZONE
TZID:Europe/Berlin
X-LIC-LOCATION:Europe/Berlin
BEGIN:DAYLIGHT
TZOFFSETFROM:+0100
TZOFFSETTO:+0200
TZNAME:CEST
DTSTART:19700329T020000
RRULE:FREQ=YEARLY;INTERVAL=1;BYDAY=-1SU;BYMONTH=3
END:DAYLIGHT
BEGIN:STANDARD
TZOFFSETFROM:+0200
TZOFFSETTO:+0100
TZNAME:CET
DTSTART:19701025T030000
RRULE:FREQ=YEARLY;INTERVAL=1;BYDAY=-1SU;BYMONTH=10
END:STANDARD
END:VTIMEZONE
BEGIN:VEVENT
DTSTAMP:20260425T011101
DTSTART;TZID=Europe/Berlin:20260316T080000
DTEND;TZID=Europe/Berlin:20260316T120000
UID:2026F71196-20260316T080000@VHSLINGEN
SUMMARY:Deutsch als Fremdsprache für Neuzugewanderte (A1.2) Freren (2026F71196) 
LOCATION:Vitus-Haus Freren, Goldstr. 15, 49832 Freren
END:VEVENT
BEGIN:VEVENT
DTSTAMP:20260425T011101
DTSTART;TZID=Europe/Berlin:20260318T080000
DTEND;TZID=Europe/Berlin:20260318T120000
UID:2026F71196-20260318T080000@VHSLINGEN
SUMMARY:Deutsch als Fremdsprache für Neuzugewanderte (A1.2) Freren (2026F71196) 
LOCATION:Vitus-Haus Freren, Goldstr. 15, 49832 Freren
END:VEVENT
BEGIN:VEVENT
DTSTAMP:20260425T011101
DTSTART;TZID=Europe/Berlin:20260408T080000
DTEND;TZID=Europe/Berlin:20260408T120000
UID:2026F71196-20260408T080000@VHSLINGEN
SUMMARY:Deutsch als Fremdsprache für Neuzugewanderte (A1.2) Freren (2026F71196) 
LOCATION:Vitus-Haus Freren, Goldstr. 15, 49832 Freren
END:VEVENT
BEGIN:VEVENT
DTSTAMP:20260425T011101
DTSTART;TZID=Europe/Berlin:20260413T080000
DTEND;TZID=Europe/Berlin:20260413T120000
UID:2026F71196-20260413T080000@VHSLINGEN
SUMMARY:Deutsch als Fremdsprache für Neuzugewanderte (A1.2) Freren (2026F71196) 
LOCATION:Vitus-Haus Freren, Goldstr. 15, 49832 Freren
END:VEVENT
BEGIN:VEVENT
DTSTAMP:20260425T011101
DTSTART;TZID=Europe/Berlin:20260415T080000
DTEND;TZID=Europe/Berlin:20260415T120000
UID:2026F71196-20260415T080000@VHSLINGEN
SUMMARY:Deutsch als Fremdsprache für Neuzugewanderte (A1.2) Freren (2026F71196) 
LOCATION:Vitus-Haus Freren, Goldstr. 15, 49832 Freren
END:VEVENT
BEGIN:VEVENT
DTSTAMP:20260425T011101
DTSTART;TZID=Europe/Berlin:20260420T080000
DTEND;TZID=Europe/Berlin:20260420T120000
UID:2026F71196-20260420T080000@VHSLINGEN
SUMMARY:Deutsch als Fremdsprache für Neuzugewanderte (A1.2) Freren (2026F71196) 
LOCATION:Vitus-Haus Freren, Goldstr. 15, 49832 Freren
END:VEVENT
BEGIN:VEVENT
DTSTAMP:20260425T011101
DTSTART;TZID=Europe/Berlin:20260422T080000
DTEND;TZID=Europe/Berlin:20260422T120000
UID:2026F71196-20260422T080000@VHSLINGEN
SUMMARY:Deutsch als Fremdsprache für Neuzugewanderte (A1.2) Freren (2026F71196) 
LOCATION:Vitus-Haus Freren, Goldstr. 15, 49832 Freren
END:VEVENT
BEGIN:VEVENT
DTSTAMP:20260425T011101
DTSTART;TZID=Europe/Berlin:20260427T080000
DTEND;TZID=Europe/Berlin:20260427T120000
UID:2026F71196-20260427T080000@VHSLINGEN
SUMMARY:Deutsch als Fremdsprache für Neuzugewanderte (A1.2) Freren (2026F71196) 
LOCATION:Vitus-Haus Freren, Goldstr. 15, 49832 Freren
END:VEVENT
BEGIN:VEVENT
DTSTAMP:20260425T011101
DTSTART;TZID=Europe/Berlin:20260429T080000
DTEND;TZID=Europe/Berlin:20260429T120000
UID:2026F71196-20260429T080000@VHSLINGEN
SUMMARY:Deutsch als Fremdsprache für Neuzugewanderte (A1.2) Freren (2026F71196) 
LOCATION:Vitus-Haus Freren, Goldstr. 15, 49832 Freren
END:VEVENT
BEGIN:VEVENT
DTSTAMP:20260425T011101
DTSTART;TZID=Europe/Berlin:20260504T080000
DTEND;TZID=Europe/Berlin:20260504T120000
UID:2026F71196-20260504T080000@VHSLINGEN
SUMMARY:Deutsch als Fremdsprache für Neuzugewanderte (A1.2) Freren (2026F71196) 
LOCATION:Vitus-Haus Freren, Goldstr. 15, 49832 Freren
END:VEVENT
BEGIN:VEVENT
DTSTAMP:20260425T011101
DTSTART;TZID=Europe/Berlin:20260506T080000
DTEND;TZID=Europe/Berlin:20260506T120000
UID:2026F71196-20260506T080000@VHSLINGEN
SUMMARY:Deutsch als Fremdsprache für Neuzugewanderte (A1.2) Freren (2026F71196) 
LOCATION:Vitus-Haus Freren, Goldstr. 15, 49832 Freren
END:VEVENT
BEGIN:VEVENT
DTSTAMP:20260425T011101
DTSTART;TZID=Europe/Berlin:20260511T080000
DTEND;TZID=Europe/Berlin:20260511T120000
UID:2026F71196-20260511T080000@VHSLINGEN
SUMMARY:Deutsch als Fremdsprache für Neuzugewanderte (A1.2) Freren (2026F71196) 
LOCATION:Vitus-Haus Freren, Goldstr. 15, 49832 Freren
END:VEVENT
BEGIN:VEVENT
DTSTAMP:20260425T011101
DTSTART;TZID=Europe/Berlin:20260513T080000
DTEND;TZID=Europe/Berlin:20260513T120000
UID:2026F71196-20260513T080000@VHSLINGEN
SUMMARY:Deutsch als Fremdsprache für Neuzugewanderte (A1.2) Freren (2026F71196) 
LOCATION:Vitus-Haus Freren, Goldstr. 15, 49832 Freren
END:VEVENT
BEGIN:VEVENT
DTSTAMP:20260425T011101
DTSTART;TZID=Europe/Berlin:20260518T080000
DTEND;TZID=Europe/Berlin:20260518T120000
UID:2026F71196-20260518T080000@VHSLINGEN
SUMMARY:Deutsch als Fremdsprache für Neuzugewanderte (A1.2) Freren (2026F71196) 
LOCATION:Vitus-Haus Freren, Goldstr. 15, 49832 Freren
END:VEVENT
BEGIN:VEVENT
DTSTAMP:20260425T011101
DTSTART;TZID=Europe/Berlin:20260520T080000
DTEND;TZID=Europe/Berlin:20260520T120000
UID:2026F71196-20260520T080000@VHSLINGEN
SUMMARY:Deutsch als Fremdsprache für Neuzugewanderte (A1.2) Freren (2026F71196) 
LOCATION:Vitus-Haus Freren, Goldstr. 15, 49832 Freren
END:VEVENT
BEGIN:VEVENT
DTSTAMP:20260425T011101
DTSTART;TZID=Europe/Berlin:20260527T080000
DTEND;TZID=Europe/Berlin:20260527T120000
UID:2026F71196-20260527T080000@VHSLINGEN
SUMMARY:Deutsch als Fremdsprache für Neuzugewanderte (A1.2) Freren (2026F71196) 
LOCATION:Vitus-Haus Freren, Goldstr. 15, 49832 Freren
END:VEVENT
BEGIN:VEVENT
DTSTAMP:20260425T011101
DTSTART;TZID=Europe/Berlin:20260601T080000
DTEND;TZID=Europe/Berlin:20260601T120000
UID:2026F71196-20260601T080000@VHSLINGEN
SUMMARY:Deutsch als Fremdsprache für Neuzugewanderte (A1.2) Freren (2026F71196) 
LOCATION:Vitus-Haus Freren, Goldstr. 15, 49832 Freren
END:VEVENT
BEGIN:VEVENT
DTSTAMP:20260425T011101
DTSTART;TZID=Europe/Berlin:20260603T080000
DTEND;TZID=Europe/Berlin:20260603T120000
UID:2026F71196-20260603T080000@VHSLINGEN
SUMMARY:Deutsch als Fremdsprache für Neuzugewanderte (A1.2) Freren (2026F71196) 
LOCATION:Vitus-Haus Freren, Goldstr. 15, 49832 Freren
END:VEVENT
BEGIN:VEVENT
DTSTAMP:20260425T011101
DTSTART;TZID=Europe/Berlin:20260608T080000
DTEND;TZID=Europe/Berlin:20260608T120000
UID:2026F71196-20260608T080000@VHSLINGEN
SUMMARY:Deutsch als Fremdsprache für Neuzugewanderte (A1.2) Freren (2026F71196) 
LOCATION:Vitus-Haus Freren, Goldstr. 15, 49832 Freren
END:VEVENT
BEGIN:VEVENT
DTSTAMP:20260425T011101
DTSTART;TZID=Europe/Berlin:20260610T080000
DTEND;TZID=Europe/Berlin:20260610T120000
UID:2026F71196-20260610T080000@VHSLINGEN
SUMMARY:Deutsch als Fremdsprache für Neuzugewanderte (A1.2) Freren (2026F71196) 
LOCATION:Vitus-Haus Freren, Goldstr. 15, 49832 Freren
END:VEVENT
END:VCALENDAR