BEGIN:VCALENDAR
VERSION:2.0
PRODID:https://www.kufer.de/kuferweb / DE
METHOD:PUBLISH
CALSCALE:GREGORIAN
X-WR-TIMEZONE:Europe/Berlin
BEGIN:VTIMEZONE
TZID:Europe/Berlin
X-LIC-LOCATION:Europe/Berlin
BEGIN:DAYLIGHT
TZOFFSETFROM:+0100
TZOFFSETTO:+0200
TZNAME:CEST
DTSTART:19700329T020000
RRULE:FREQ=YEARLY;INTERVAL=1;BYDAY=-1SU;BYMONTH=3
END:DAYLIGHT
BEGIN:STANDARD
TZOFFSETFROM:+0200
TZOFFSETTO:+0100
TZNAME:CET
DTSTART:19701025T030000
RRULE:FREQ=YEARLY;INTERVAL=1;BYDAY=-1SU;BYMONTH=10
END:STANDARD
END:VTIMEZONE
BEGIN:VEVENT
DTSTAMP:20260425T005306
DTSTART;TZID=Europe/Berlin:20260529T153000
DTEND;TZID=Europe/Berlin:20260529T210000
UID:2026F22460-20260529T153000@VHSLINGEN
DESCRIPTION:Modul 1
SUMMARY:Ausbildung zum/zur (zertifizierten) Mediator/in in Kooperation mit der KoVIAk Akademie für Konflikt- und Führungskompetenz (2026F22460) 
LOCATION:Bildungszentrum Gebrüder-Grimm, DG09, Elsterstr. 1, 49808 Lingen
END:VEVENT
BEGIN:VEVENT
DTSTAMP:20260425T005306
DTSTART;TZID=Europe/Berlin:20260530T093000
DTEND;TZID=Europe/Berlin:20260530T180000
UID:2026F22460-20260530T093000@VHSLINGEN
DESCRIPTION:Modul 1
SUMMARY:Ausbildung zum/zur (zertifizierten) Mediator/in in Kooperation mit der KoVIAk Akademie für Konflikt- und Führungskompetenz (2026F22460) 
LOCATION:Bildungszentrum Gebrüder-Grimm, DG09, Elsterstr. 1, 49808 Lingen
END:VEVENT
BEGIN:VEVENT
DTSTAMP:20260425T005306
DTSTART;TZID=Europe/Berlin:20260531T093000
DTEND;TZID=Europe/Berlin:20260531T160000
UID:2026F22460-20260531T093000@VHSLINGEN
DESCRIPTION:Modul 1
SUMMARY:Ausbildung zum/zur (zertifizierten) Mediator/in in Kooperation mit der KoVIAk Akademie für Konflikt- und Führungskompetenz (2026F22460) 
LOCATION:Bildungszentrum Gebrüder-Grimm, DG09, Elsterstr. 1, 49808 Lingen
END:VEVENT
BEGIN:VEVENT
DTSTAMP:20260425T005306
DTSTART;TZID=Europe/Berlin:20260703T153000
DTEND;TZID=Europe/Berlin:20260703T210000
UID:2026F22460-20260703T153000@VHSLINGEN
DESCRIPTION:Modul 2
SUMMARY:Ausbildung zum/zur (zertifizierten) Mediator/in in Kooperation mit der KoVIAk Akademie für Konflikt- und Führungskompetenz (2026F22460) 
LOCATION:Bildungszentrum Gebrüder-Grimm, DG09, Elsterstr. 1, 49808 Lingen
END:VEVENT
BEGIN:VEVENT
DTSTAMP:20260425T005306
DTSTART;TZID=Europe/Berlin:20260704T093000
DTEND;TZID=Europe/Berlin:20260704T180000
UID:2026F22460-20260704T093000@VHSLINGEN
DESCRIPTION:Modul 2
SUMMARY:Ausbildung zum/zur (zertifizierten) Mediator/in in Kooperation mit der KoVIAk Akademie für Konflikt- und Führungskompetenz (2026F22460) 
LOCATION:Bildungszentrum Gebrüder-Grimm, DG09, Elsterstr. 1, 49808 Lingen
END:VEVENT
BEGIN:VEVENT
DTSTAMP:20260425T005306
DTSTART;TZID=Europe/Berlin:20260705T093000
DTEND;TZID=Europe/Berlin:20260705T160000
UID:2026F22460-20260705T093000@VHSLINGEN
DESCRIPTION:Modul 2
SUMMARY:Ausbildung zum/zur (zertifizierten) Mediator/in in Kooperation mit der KoVIAk Akademie für Konflikt- und Führungskompetenz (2026F22460) 
LOCATION:Bildungszentrum Gebrüder-Grimm, DG09, Elsterstr. 1, 49808 Lingen
END:VEVENT
BEGIN:VEVENT
DTSTAMP:20260425T005306
DTSTART;TZID=Europe/Berlin:20260828T153000
DTEND;TZID=Europe/Berlin:20260828T210000
UID:2026F22460-20260828T153000@VHSLINGEN
DESCRIPTION:Modul 3
SUMMARY:Ausbildung zum/zur (zertifizierten) Mediator/in in Kooperation mit der KoVIAk Akademie für Konflikt- und Führungskompetenz (2026F22460) 
LOCATION:Bildungszentrum Gebrüder-Grimm, DG09, Elsterstr. 1, 49808 Lingen
END:VEVENT
BEGIN:VEVENT
DTSTAMP:20260425T005306
DTSTART;TZID=Europe/Berlin:20260829T093000
DTEND;TZID=Europe/Berlin:20260829T180000
UID:2026F22460-20260829T093000@VHSLINGEN
DESCRIPTION:Modul 3
SUMMARY:Ausbildung zum/zur (zertifizierten) Mediator/in in Kooperation mit der KoVIAk Akademie für Konflikt- und Führungskompetenz (2026F22460) 
LOCATION:Bildungszentrum Gebrüder-Grimm, DG09, Elsterstr. 1, 49808 Lingen
END:VEVENT
BEGIN:VEVENT
DTSTAMP:20260425T005306
DTSTART;TZID=Europe/Berlin:20260830T093000
DTEND;TZID=Europe/Berlin:20260830T160000
UID:2026F22460-20260830T093000@VHSLINGEN
DESCRIPTION:Modul 3
SUMMARY:Ausbildung zum/zur (zertifizierten) Mediator/in in Kooperation mit der KoVIAk Akademie für Konflikt- und Führungskompetenz (2026F22460) 
LOCATION:Bildungszentrum Gebrüder-Grimm, DG09, Elsterstr. 1, 49808 Lingen
END:VEVENT
BEGIN:VEVENT
DTSTAMP:20260425T005306
DTSTART;TZID=Europe/Berlin:20260914T090000
DTEND;TZID=Europe/Berlin:20260914T180000
UID:2026F22460-20260914T090000@VHSLINGEN
DESCRIPTION:Bildungsurlaub - Modul 4
SUMMARY:Ausbildung zum/zur (zertifizierten) Mediator/in in Kooperation mit der KoVIAk Akademie für Konflikt- und Führungskompetenz (2026F22460) 
LOCATION:Online-Kurs
END:VEVENT
BEGIN:VEVENT
DTSTAMP:20260425T005306
DTSTART;TZID=Europe/Berlin:20260915T090000
DTEND;TZID=Europe/Berlin:20260915T180000
UID:2026F22460-20260915T090000@VHSLINGEN
DESCRIPTION:Bildungsurlaub - Modul 4
SUMMARY:Ausbildung zum/zur (zertifizierten) Mediator/in in Kooperation mit der KoVIAk Akademie für Konflikt- und Führungskompetenz (2026F22460) 
LOCATION:Online-Kurs
END:VEVENT
BEGIN:VEVENT
DTSTAMP:20260425T005306
DTSTART;TZID=Europe/Berlin:20260916T090000
DTEND;TZID=Europe/Berlin:20260916T180000
UID:2026F22460-20260916T090000@VHSLINGEN
DESCRIPTION:Bildungsurlaub - Modul 4
SUMMARY:Ausbildung zum/zur (zertifizierten) Mediator/in in Kooperation mit der KoVIAk Akademie für Konflikt- und Führungskompetenz (2026F22460) 
LOCATION:Bildungszentrum Gebrüder-Grimm, DG09, Elsterstr. 1, 49808 Lingen
END:VEVENT
BEGIN:VEVENT
DTSTAMP:20260425T005306
DTSTART;TZID=Europe/Berlin:20260917T090000
DTEND;TZID=Europe/Berlin:20260917T180000
UID:2026F22460-20260917T090000@VHSLINGEN
DESCRIPTION:Bildungsurlaub - Modul 4
SUMMARY:Ausbildung zum/zur (zertifizierten) Mediator/in in Kooperation mit der KoVIAk Akademie für Konflikt- und Führungskompetenz (2026F22460) 
LOCATION:Bildungszentrum Gebrüder-Grimm, DG09, Elsterstr. 1, 49808 Lingen
END:VEVENT
BEGIN:VEVENT
DTSTAMP:20260425T005306
DTSTART;TZID=Europe/Berlin:20260918T090000
DTEND;TZID=Europe/Berlin:20260918T180000
UID:2026F22460-20260918T090000@VHSLINGEN
DESCRIPTION:Bildungsurlaub - Modul 4
SUMMARY:Ausbildung zum/zur (zertifizierten) Mediator/in in Kooperation mit der KoVIAk Akademie für Konflikt- und Führungskompetenz (2026F22460) 
LOCATION:Bildungszentrum Gebrüder-Grimm, DG09, Elsterstr. 1, 49808 Lingen
END:VEVENT
BEGIN:VEVENT
DTSTAMP:20260425T005306
DTSTART;TZID=Europe/Berlin:20261009T153000
DTEND;TZID=Europe/Berlin:20261009T210000
UID:2026F22460-20261009T153000@VHSLINGEN
DESCRIPTION:Modul 5
SUMMARY:Ausbildung zum/zur (zertifizierten) Mediator/in in Kooperation mit der KoVIAk Akademie für Konflikt- und Führungskompetenz (2026F22460) 
LOCATION:Online-Kurs
END:VEVENT
BEGIN:VEVENT
DTSTAMP:20260425T005306
DTSTART;TZID=Europe/Berlin:20261010T093000
DTEND;TZID=Europe/Berlin:20261010T180000
UID:2026F22460-20261010T093000@VHSLINGEN
DESCRIPTION:Modul 5
SUMMARY:Ausbildung zum/zur (zertifizierten) Mediator/in in Kooperation mit der KoVIAk Akademie für Konflikt- und Führungskompetenz (2026F22460) 
LOCATION:Online-Kurs
END:VEVENT
BEGIN:VEVENT
DTSTAMP:20260425T005306
DTSTART;TZID=Europe/Berlin:20261011T093000
DTEND;TZID=Europe/Berlin:20261011T160000
UID:2026F22460-20261011T093000@VHSLINGEN
DESCRIPTION:Modul 5
SUMMARY:Ausbildung zum/zur (zertifizierten) Mediator/in in Kooperation mit der KoVIAk Akademie für Konflikt- und Führungskompetenz (2026F22460) 
LOCATION:Online-Kurs
END:VEVENT
BEGIN:VEVENT
DTSTAMP:20260425T005306
DTSTART;TZID=Europe/Berlin:20261127T153000
DTEND;TZID=Europe/Berlin:20261127T210000
UID:2026F22460-20261127T153000@VHSLINGEN
DESCRIPTION:Modul 6
SUMMARY:Ausbildung zum/zur (zertifizierten) Mediator/in in Kooperation mit der KoVIAk Akademie für Konflikt- und Führungskompetenz (2026F22460) 
LOCATION:Bildungszentrum Gebrüder-Grimm, DG09, Elsterstr. 1, 49808 Lingen
END:VEVENT
BEGIN:VEVENT
DTSTAMP:20260425T005306
DTSTART;TZID=Europe/Berlin:20261128T093000
DTEND;TZID=Europe/Berlin:20261128T180000
UID:2026F22460-20261128T093000@VHSLINGEN
DESCRIPTION:Modul 6
SUMMARY:Ausbildung zum/zur (zertifizierten) Mediator/in in Kooperation mit der KoVIAk Akademie für Konflikt- und Führungskompetenz (2026F22460) 
LOCATION:Bildungszentrum Gebrüder-Grimm, DG09, Elsterstr. 1, 49808 Lingen
END:VEVENT
BEGIN:VEVENT
DTSTAMP:20260425T005306
DTSTART;TZID=Europe/Berlin:20261129T093000
DTEND;TZID=Europe/Berlin:20261129T160000
UID:2026F22460-20261129T093000@VHSLINGEN
DESCRIPTION:Modul 6
SUMMARY:Ausbildung zum/zur (zertifizierten) Mediator/in in Kooperation mit der KoVIAk Akademie für Konflikt- und Führungskompetenz (2026F22460) 
LOCATION:Bildungszentrum Gebrüder-Grimm, DG09, Elsterstr. 1, 49808 Lingen
END:VEVENT
BEGIN:VEVENT
DTSTAMP:20260425T005306
DTSTART;TZID=Europe/Berlin:20270118T090000
DTEND;TZID=Europe/Berlin:20270118T180000
UID:2027F22470-20270118T090000@VHSLINGEN
DESCRIPTION:Bildungsurlaub - Modul 7
SUMMARY:Ausbildung zum/zur (zertifizierten) Mediator/in in Kooperation mit der KoVIAk Akademie für Konflikt- und Führungskompetenz (2027F22470) 
LOCATION:Online-Kurs
END:VEVENT
BEGIN:VEVENT
DTSTAMP:20260425T005306
DTSTART;TZID=Europe/Berlin:20270119T090000
DTEND;TZID=Europe/Berlin:20270119T180000
UID:2027F22470-20270119T090000@VHSLINGEN
DESCRIPTION:Bildungsurlaub - Modul 7
SUMMARY:Ausbildung zum/zur (zertifizierten) Mediator/in in Kooperation mit der KoVIAk Akademie für Konflikt- und Führungskompetenz (2027F22470) 
LOCATION:Online-Kurs
END:VEVENT
BEGIN:VEVENT
DTSTAMP:20260425T005306
DTSTART;TZID=Europe/Berlin:20270120T090000
DTEND;TZID=Europe/Berlin:20270120T180000
UID:2027F22470-20270120T090000@VHSLINGEN
DESCRIPTION:Bildungsurlaub - Modul 7
SUMMARY:Ausbildung zum/zur (zertifizierten) Mediator/in in Kooperation mit der KoVIAk Akademie für Konflikt- und Führungskompetenz (2027F22470) 
LOCATION:Bildungszentrum Gebrüder-Grimm, DG09, Elsterstr. 1, 49808 Lingen
END:VEVENT
BEGIN:VEVENT
DTSTAMP:20260425T005306
DTSTART;TZID=Europe/Berlin:20270121T090000
DTEND;TZID=Europe/Berlin:20270121T180000
UID:2027F22470-20270121T090000@VHSLINGEN
DESCRIPTION:Bildungsurlaub - Modul 7
SUMMARY:Ausbildung zum/zur (zertifizierten) Mediator/in in Kooperation mit der KoVIAk Akademie für Konflikt- und Führungskompetenz (2027F22470) 
LOCATION:Bildungszentrum Gebrüder-Grimm, DG09, Elsterstr. 1, 49808 Lingen
END:VEVENT
BEGIN:VEVENT
DTSTAMP:20260425T005306
DTSTART;TZID=Europe/Berlin:20270122T090000
DTEND;TZID=Europe/Berlin:20270122T180000
UID:2027F22470-20270122T090000@VHSLINGEN
DESCRIPTION:Bildungsurlaub - Modul 7
SUMMARY:Ausbildung zum/zur (zertifizierten) Mediator/in in Kooperation mit der KoVIAk Akademie für Konflikt- und Führungskompetenz (2027F22470) 
LOCATION:Bildungszentrum Gebrüder-Grimm, DG09, Elsterstr. 1, 49808 Lingen
END:VEVENT
BEGIN:VEVENT
DTSTAMP:20260425T005306
DTSTART;TZID=Europe/Berlin:20270312T153000
DTEND;TZID=Europe/Berlin:20270312T210000
UID:2027F22470-20270312T153000@VHSLINGEN
DESCRIPTION:Modul 8
SUMMARY:Ausbildung zum/zur (zertifizierten) Mediator/in in Kooperation mit der KoVIAk Akademie für Konflikt- und Führungskompetenz (2027F22470) 
LOCATION:Bildungszentrum Gebrüder-Grimm, DG09, Elsterstr. 1, 49808 Lingen
END:VEVENT
BEGIN:VEVENT
DTSTAMP:20260425T005306
DTSTART;TZID=Europe/Berlin:20270313T093000
DTEND;TZID=Europe/Berlin:20270313T180000
UID:2027F22470-20270313T093000@VHSLINGEN
DESCRIPTION:Modul 8
SUMMARY:Ausbildung zum/zur (zertifizierten) Mediator/in in Kooperation mit der KoVIAk Akademie für Konflikt- und Führungskompetenz (2027F22470) 
LOCATION:Bildungszentrum Gebrüder-Grimm, DG09, Elsterstr. 1, 49808 Lingen
END:VEVENT
BEGIN:VEVENT
DTSTAMP:20260425T005306
DTSTART;TZID=Europe/Berlin:20270314T093000
DTEND;TZID=Europe/Berlin:20270314T160000
UID:2027F22470-20270314T093000@VHSLINGEN
DESCRIPTION:Modul 8
SUMMARY:Ausbildung zum/zur (zertifizierten) Mediator/in in Kooperation mit der KoVIAk Akademie für Konflikt- und Führungskompetenz (2027F22470) 
LOCATION:Bildungszentrum Gebrüder-Grimm, DG09, Elsterstr. 1, 49808 Lingen
END:VEVENT
END:VCALENDAR