BEGIN:VCALENDAR
VERSION:2.0
PRODID:https://www.kufer.de/kuferweb / DE
METHOD:PUBLISH
CALSCALE:GREGORIAN
X-WR-TIMEZONE:Europe/Berlin
BEGIN:VTIMEZONE
TZID:Europe/Berlin
X-LIC-LOCATION:Europe/Berlin
BEGIN:DAYLIGHT
TZOFFSETFROM:+0100
TZOFFSETTO:+0200
TZNAME:CEST
DTSTART:19700329T020000
RRULE:FREQ=YEARLY;INTERVAL=1;BYDAY=-1SU;BYMONTH=3
END:DAYLIGHT
BEGIN:STANDARD
TZOFFSETFROM:+0200
TZOFFSETTO:+0100
TZNAME:CET
DTSTART:19701025T030000
RRULE:FREQ=YEARLY;INTERVAL=1;BYDAY=-1SU;BYMONTH=10
END:STANDARD
END:VTIMEZONE
BEGIN:VEVENT
DTSTAMP:20260424T212954
DTSTART;TZID=Europe/Berlin:20260824T090000
DTEND;TZID=Europe/Berlin:20260824T160000
UID:2026F22070-20260824T090000@VHSLINGEN
SUMMARY:Bildungsurlaub: Rhetorik für Beruf & Alltag: überzeugend auftreten! (2026F22070) 
LOCATION:Bildungszentrum Gebrüder-Grimm, OG14, Elsterstr. 1, 49808 Lingen
END:VEVENT
BEGIN:VEVENT
DTSTAMP:20260424T212954
DTSTART;TZID=Europe/Berlin:20260824T090000
DTEND;TZID=Europe/Berlin:20260824T160000
UID:2026F22070-20260824T090000@VHSLINGEN
SUMMARY:Bildungsurlaub: Rhetorik für Beruf & Alltag: überzeugend auftreten! (2026F22070) 
LOCATION:Bildungszentrum Gebrüder-Grimm, OG12, Elsterstr. 1, 49808 Lingen
END:VEVENT
BEGIN:VEVENT
DTSTAMP:20260424T212954
DTSTART;TZID=Europe/Berlin:20260825T090000
DTEND;TZID=Europe/Berlin:20260825T160000
UID:2026F22070-20260825T090000@VHSLINGEN
SUMMARY:Bildungsurlaub: Rhetorik für Beruf & Alltag: überzeugend auftreten! (2026F22070) 
LOCATION:Bildungszentrum Gebrüder-Grimm, OG12, Elsterstr. 1, 49808 Lingen
END:VEVENT
BEGIN:VEVENT
DTSTAMP:20260424T212954
DTSTART;TZID=Europe/Berlin:20260825T113000
DTEND;TZID=Europe/Berlin:20260825T160000
UID:2026F22070-20260825T113000@VHSLINGEN
SUMMARY:Bildungsurlaub: Rhetorik für Beruf & Alltag: überzeugend auftreten! (2026F22070) 
LOCATION:Bildungszentrum Gebrüder-Grimm, OG14, Elsterstr. 1, 49808 Lingen
END:VEVENT
BEGIN:VEVENT
DTSTAMP:20260424T212954
DTSTART;TZID=Europe/Berlin:20260826T090000
DTEND;TZID=Europe/Berlin:20260826T160000
UID:2026F22070-20260826T090000@VHSLINGEN
SUMMARY:Bildungsurlaub: Rhetorik für Beruf & Alltag: überzeugend auftreten! (2026F22070) 
LOCATION:Bildungszentrum Gebrüder-Grimm, OG12, Elsterstr. 1, 49808 Lingen
END:VEVENT
BEGIN:VEVENT
DTSTAMP:20260424T212954
DTSTART;TZID=Europe/Berlin:20260826T103000
DTEND;TZID=Europe/Berlin:20260826T160000
UID:2026F22070-20260826T103000@VHSLINGEN
SUMMARY:Bildungsurlaub: Rhetorik für Beruf & Alltag: überzeugend auftreten! (2026F22070) 
LOCATION:Bildungszentrum Gebrüder-Grimm, OG14, Elsterstr. 1, 49808 Lingen
END:VEVENT
BEGIN:VEVENT
DTSTAMP:20260424T212954
DTSTART;TZID=Europe/Berlin:20260827T090000
DTEND;TZID=Europe/Berlin:20260827T160000
UID:2026F22070-20260827T090000@VHSLINGEN
SUMMARY:Bildungsurlaub: Rhetorik für Beruf & Alltag: überzeugend auftreten! (2026F22070) 
LOCATION:Bildungszentrum Gebrüder-Grimm, OG12, Elsterstr. 1, 49808 Lingen
END:VEVENT
BEGIN:VEVENT
DTSTAMP:20260424T212954
DTSTART;TZID=Europe/Berlin:20260827T110000
DTEND;TZID=Europe/Berlin:20260827T160000
UID:2026F22070-20260827T110000@VHSLINGEN
SUMMARY:Bildungsurlaub: Rhetorik für Beruf & Alltag: überzeugend auftreten! (2026F22070) 
LOCATION:Bildungszentrum Gebrüder-Grimm, OG14, Elsterstr. 1, 49808 Lingen
END:VEVENT
BEGIN:VEVENT
DTSTAMP:20260424T212954
DTSTART;TZID=Europe/Berlin:20260828T090000
DTEND;TZID=Europe/Berlin:20260828T160000
UID:2026F22070-20260828T090000@VHSLINGEN
SUMMARY:Bildungsurlaub: Rhetorik für Beruf & Alltag: überzeugend auftreten! (2026F22070) 
LOCATION:Bildungszentrum Gebrüder-Grimm, OG12, Elsterstr. 1, 49808 Lingen
END:VEVENT
BEGIN:VEVENT
DTSTAMP:20260424T212954
DTSTART;TZID=Europe/Berlin:20260828T110000
DTEND;TZID=Europe/Berlin:20260828T160000
UID:2026F22070-20260828T110000@VHSLINGEN
SUMMARY:Bildungsurlaub: Rhetorik für Beruf & Alltag: überzeugend auftreten! (2026F22070) 
LOCATION:Bildungszentrum Gebrüder-Grimm, OG14, Elsterstr. 1, 49808 Lingen
END:VEVENT
END:VCALENDAR