BEGIN:VCALENDAR
VERSION:2.0
PRODID:https://www.kufer.de/kuferweb / DE
METHOD:PUBLISH
CALSCALE:GREGORIAN
X-WR-TIMEZONE:Europe/Berlin
BEGIN:VTIMEZONE
TZID:Europe/Berlin
X-LIC-LOCATION:Europe/Berlin
BEGIN:DAYLIGHT
TZOFFSETFROM:+0100
TZOFFSETTO:+0200
TZNAME:CEST
DTSTART:19700329T020000
RRULE:FREQ=YEARLY;INTERVAL=1;BYDAY=-1SU;BYMONTH=3
END:DAYLIGHT
BEGIN:STANDARD
TZOFFSETFROM:+0200
TZOFFSETTO:+0100
TZNAME:CET
DTSTART:19701025T030000
RRULE:FREQ=YEARLY;INTERVAL=1;BYDAY=-1SU;BYMONTH=10
END:STANDARD
END:VTIMEZONE
BEGIN:VEVENT
DTSTAMP:20260424T213005
DTSTART;TZID=Europe/Berlin:20260505T170000
DTEND;TZID=Europe/Berlin:20260505T183000
UID:2026F22000-20260505T170000@VHSLINGEN
SUMMARY:Atem-, Stimm- und Sprechtraining (2026F22000) 
LOCATION:Bildungszentrum Gebrüder-Grimm, OG09, Elsterstr. 1, 49808 Lingen
END:VEVENT
BEGIN:VEVENT
DTSTAMP:20260424T213005
DTSTART;TZID=Europe/Berlin:20260505T170000
DTEND;TZID=Europe/Berlin:20260505T183000
UID:2026F22000-20260505T170000@VHSLINGEN
SUMMARY:Atem-, Stimm- und Sprechtraining (2026F22000) 
LOCATION:Bildungszentrum Gebrüder-Grimm, OG05, Elsterstr. 1, 49808 Lingen
END:VEVENT
BEGIN:VEVENT
DTSTAMP:20260424T213005
DTSTART;TZID=Europe/Berlin:20260512T170000
DTEND;TZID=Europe/Berlin:20260512T183000
UID:2026F22000-20260512T170000@VHSLINGEN
SUMMARY:Atem-, Stimm- und Sprechtraining (2026F22000) 
LOCATION:Bildungszentrum Gebrüder-Grimm, OG09, Elsterstr. 1, 49808 Lingen
END:VEVENT
BEGIN:VEVENT
DTSTAMP:20260424T213005
DTSTART;TZID=Europe/Berlin:20260512T170000
DTEND;TZID=Europe/Berlin:20260512T183000
UID:2026F22000-20260512T170000@VHSLINGEN
SUMMARY:Atem-, Stimm- und Sprechtraining (2026F22000) 
LOCATION:Bildungszentrum Gebrüder-Grimm, OG05, Elsterstr. 1, 49808 Lingen
END:VEVENT
BEGIN:VEVENT
DTSTAMP:20260424T213005
DTSTART;TZID=Europe/Berlin:20260519T170000
DTEND;TZID=Europe/Berlin:20260519T183000
UID:2026F22000-20260519T170000@VHSLINGEN
SUMMARY:Atem-, Stimm- und Sprechtraining (2026F22000) 
LOCATION:Bildungszentrum Gebrüder-Grimm, OG09, Elsterstr. 1, 49808 Lingen
END:VEVENT
BEGIN:VEVENT
DTSTAMP:20260424T213005
DTSTART;TZID=Europe/Berlin:20260519T170000
DTEND;TZID=Europe/Berlin:20260519T183000
UID:2026F22000-20260519T170000@VHSLINGEN
SUMMARY:Atem-, Stimm- und Sprechtraining (2026F22000) 
LOCATION:Bildungszentrum Gebrüder-Grimm, OG05, Elsterstr. 1, 49808 Lingen
END:VEVENT
BEGIN:VEVENT
DTSTAMP:20260424T213005
DTSTART;TZID=Europe/Berlin:20260602T170000
DTEND;TZID=Europe/Berlin:20260602T183000
UID:2026F22000-20260602T170000@VHSLINGEN
SUMMARY:Atem-, Stimm- und Sprechtraining (2026F22000) 
LOCATION:Bildungszentrum Gebrüder-Grimm, OG05, Elsterstr. 1, 49808 Lingen
END:VEVENT
BEGIN:VEVENT
DTSTAMP:20260424T213005
DTSTART;TZID=Europe/Berlin:20260602T170000
DTEND;TZID=Europe/Berlin:20260602T183000
UID:2026F22000-20260602T170000@VHSLINGEN
SUMMARY:Atem-, Stimm- und Sprechtraining (2026F22000) 
LOCATION:Bildungszentrum Gebrüder-Grimm, OG09, Elsterstr. 1, 49808 Lingen
END:VEVENT
BEGIN:VEVENT
DTSTAMP:20260424T213005
DTSTART;TZID=Europe/Berlin:20260609T170000
DTEND;TZID=Europe/Berlin:20260609T183000
UID:2026F22000-20260609T170000@VHSLINGEN
SUMMARY:Atem-, Stimm- und Sprechtraining (2026F22000) 
LOCATION:Bildungszentrum Gebrüder-Grimm, OG05, Elsterstr. 1, 49808 Lingen
END:VEVENT
BEGIN:VEVENT
DTSTAMP:20260424T213005
DTSTART;TZID=Europe/Berlin:20260609T170000
DTEND;TZID=Europe/Berlin:20260609T183000
UID:2026F22000-20260609T170000@VHSLINGEN
SUMMARY:Atem-, Stimm- und Sprechtraining (2026F22000) 
LOCATION:Bildungszentrum Gebrüder-Grimm, OG09, Elsterstr. 1, 49808 Lingen
END:VEVENT
END:VCALENDAR